BEGIN:VCALENDAR
VERSION:2.0
PRODID:-//Parkwood PTA - ECPv6.15.20//NONSGML v1.0//EN
CALSCALE:GREGORIAN
METHOD:PUBLISH
X-WR-CALNAME:Parkwood PTA
X-ORIGINAL-URL:https://www.parkwoodpta.org
X-WR-CALDESC:Events for Parkwood PTA
REFRESH-INTERVAL;VALUE=DURATION:PT1H
X-Robots-Tag:noindex
X-PUBLISHED-TTL:PT1H
BEGIN:VTIMEZONE
TZID:America/Los_Angeles
BEGIN:DAYLIGHT
TZOFFSETFROM:-0800
TZOFFSETTO:-0700
TZNAME:PDT
DTSTART:20250309T100000
END:DAYLIGHT
BEGIN:STANDARD
TZOFFSETFROM:-0700
TZOFFSETTO:-0800
TZNAME:PST
DTSTART:20251102T090000
END:STANDARD
BEGIN:DAYLIGHT
TZOFFSETFROM:-0800
TZOFFSETTO:-0700
TZNAME:PDT
DTSTART:20260308T100000
END:DAYLIGHT
BEGIN:STANDARD
TZOFFSETFROM:-0700
TZOFFSETTO:-0800
TZNAME:PST
DTSTART:20261101T090000
END:STANDARD
BEGIN:DAYLIGHT
TZOFFSETFROM:-0800
TZOFFSETTO:-0700
TZNAME:PDT
DTSTART:20270314T100000
END:DAYLIGHT
BEGIN:STANDARD
TZOFFSETFROM:-0700
TZOFFSETTO:-0800
TZNAME:PST
DTSTART:20271107T090000
END:STANDARD
END:VTIMEZONE
BEGIN:VEVENT
DTSTART;TZID=America/Los_Angeles:20260312T190000
DTEND;TZID=America/Los_Angeles:20260312T203000
DTSTAMP:20260423T104418
CREATED:20260223T183756Z
LAST-MODIFIED:20260312T000943Z
UID:2868-1773342000-1773347400@www.parkwoodpta.org
SUMMARY:March PTA Meeting (Virtual)
DESCRIPTION:Join us on Zoom. \nAll are welcome!
URL:https://www.parkwoodpta.org/event/march-pta-meeting-virtual/
END:VEVENT
BEGIN:VEVENT
DTSTART;TZID=America/Los_Angeles:20260316T170000
DTEND;TZID=America/Los_Angeles:20260327T170000
DTSTAMP:20260423T104418
CREATED:20260312T001408Z
LAST-MODIFIED:20260312T001627Z
UID:2892-1773680400-1774630800@www.parkwoodpta.org
SUMMARY:Spring 2026 Enrichment Registration Opens
DESCRIPTION:Registration begins at 5PM on March 16th \nClasses begin March 30th \nSome scholarships are available \nAll classes need 1 parent volunteer – your child’s tuition for the class will be covered if you volunteer!
URL:https://www.parkwoodpta.org/event/spring-2026-enrichment-registration-opens/
END:VEVENT
END:VCALENDAR