BEGIN:VCALENDAR
VERSION:2.0
PRODID:-//Parkwood PTA - ECPv6.15.20//NONSGML v1.0//EN
CALSCALE:GREGORIAN
METHOD:PUBLISH
X-WR-CALNAME:Parkwood PTA
X-ORIGINAL-URL:https://www.parkwoodpta.org
X-WR-CALDESC:Events for Parkwood PTA
REFRESH-INTERVAL;VALUE=DURATION:PT1H
X-Robots-Tag:noindex
X-PUBLISHED-TTL:PT1H
BEGIN:VTIMEZONE
TZID:America/Los_Angeles
BEGIN:DAYLIGHT
TZOFFSETFROM:-0800
TZOFFSETTO:-0700
TZNAME:PDT
DTSTART:20220313T100000
END:DAYLIGHT
BEGIN:STANDARD
TZOFFSETFROM:-0700
TZOFFSETTO:-0800
TZNAME:PST
DTSTART:20221106T090000
END:STANDARD
BEGIN:DAYLIGHT
TZOFFSETFROM:-0800
TZOFFSETTO:-0700
TZNAME:PDT
DTSTART:20230312T100000
END:DAYLIGHT
BEGIN:STANDARD
TZOFFSETFROM:-0700
TZOFFSETTO:-0800
TZNAME:PST
DTSTART:20231105T090000
END:STANDARD
BEGIN:DAYLIGHT
TZOFFSETFROM:-0800
TZOFFSETTO:-0700
TZNAME:PDT
DTSTART:20240310T100000
END:DAYLIGHT
BEGIN:STANDARD
TZOFFSETFROM:-0700
TZOFFSETTO:-0800
TZNAME:PST
DTSTART:20241103T090000
END:STANDARD
BEGIN:DAYLIGHT
TZOFFSETFROM:-0800
TZOFFSETTO:-0700
TZNAME:PDT
DTSTART:20250309T100000
END:DAYLIGHT
BEGIN:STANDARD
TZOFFSETFROM:-0700
TZOFFSETTO:-0800
TZNAME:PST
DTSTART:20251102T090000
END:STANDARD
BEGIN:DAYLIGHT
TZOFFSETFROM:-0800
TZOFFSETTO:-0700
TZNAME:PDT
DTSTART:20260308T100000
END:DAYLIGHT
BEGIN:STANDARD
TZOFFSETFROM:-0700
TZOFFSETTO:-0800
TZNAME:PST
DTSTART:20261101T090000
END:STANDARD
END:VTIMEZONE
BEGIN:VEVENT
DTSTART;VALUE=DATE:20250925
DTEND;VALUE=DATE:20251101
DTSTAMP:20260423T170453
CREATED:20251007T164247Z
LAST-MODIFIED:20251007T164247Z
UID:2769-1758758400-1761955199@www.parkwoodpta.org
SUMMARY:Fall Fundraiser
DESCRIPTION:Upcoming EventsAvailableBookedChangeoverJanuary 2026February 2026March 2026April 2026May 2026June 2026July 2026August 2026September 2026October 2026November 2026December 2026January 2027February 2027March 2027April 2027SMTWTFS123456789101112131415161718192021222324252627282930
URL:https://www.parkwoodpta.org/event/fall-fundraiser/
END:VEVENT
BEGIN:VEVENT
DTSTART;TZID=America/Los_Angeles:20250816T090000
DTEND;TZID=America/Los_Angeles:20250816T123000
DTSTAMP:20260423T170453
CREATED:20250605T214324Z
LAST-MODIFIED:20250805T011726Z
UID:2652-1755334800-1755347400@www.parkwoodpta.org
SUMMARY:Parkwood All-Campus Clean up
DESCRIPTION:
URL:https://www.parkwoodpta.org/event/parkwood-all-campus-clean-up/
LOCATION:Parkwood Elementary School\, 1815 N 155th St\, Shoreline\, WA\, 98133\, United States
END:VEVENT
BEGIN:VEVENT
DTSTART;TZID=America/Los_Angeles:20250605T190000
DTEND;TZID=America/Los_Angeles:20250605T203000
DTSTAMP:20260423T170453
CREATED:20240829T233702Z
LAST-MODIFIED:20240829T233702Z
UID:2513-1749150000-1749155400@www.parkwoodpta.org
SUMMARY:PTA General Meeting
DESCRIPTION:Parkwood Elementary Flex Room
URL:https://www.parkwoodpta.org/event/pta-general-meeting-2/
LOCATION:Parkwood Elementary School\, 1815 N 155th St\, Shoreline\, WA\, 98133\, United States
END:VEVENT
BEGIN:VEVENT
DTSTART;TZID=America/Los_Angeles:20250508T190000
DTEND;TZID=America/Los_Angeles:20250508T203000
DTSTAMP:20260423T170453
CREATED:20240829T233533Z
LAST-MODIFIED:20240829T233533Z
UID:2511-1746730800-1746736200@www.parkwoodpta.org
SUMMARY:PTA General Meeting (Virtual)
DESCRIPTION:To join the video meeting\, click this link: https://meet.google.com/ecx-egfw-odf \nOtherwise\, to join by phone\, dial +1 571-346-2901 and enter this PIN: 431 617 298# \nTo view more phone numbers\, click this link: https://tel.meet/ecx-egfw-odf?hs=5
URL:https://www.parkwoodpta.org/event/pta-general-meeting-virtual-3/
LOCATION:Google Meet
END:VEVENT
BEGIN:VEVENT
DTSTART;TZID=America/Los_Angeles:20250410T180000
DTEND;TZID=America/Los_Angeles:20250410T200000
DTSTAMP:20260423T170453
CREATED:20250403T232301Z
LAST-MODIFIED:20250403T232301Z
UID:2626-1744308000-1744315200@www.parkwoodpta.org
SUMMARY:World Night - Presented by Parkwood Natural Leaders
DESCRIPTION:Join us for a night of community with good food (bring a dish to share)\, musical and dance performances by Parkwood students\, 5th grade cultural project showcase\, arts & crafts\, photo booth\, and more!
URL:https://www.parkwoodpta.org/event/world-night-presented-by-parkwood-natural-leaders/
LOCATION:Parkwood Elementary School\, 1815 N 155th St\, Shoreline\, WA\, 98133\, United States
END:VEVENT
BEGIN:VEVENT
DTSTART;VALUE=DATE:20250407
DTEND;VALUE=DATE:20250412
DTSTAMP:20260423T170453
CREATED:20250403T231556Z
LAST-MODIFIED:20250403T231556Z
UID:2624-1743984000-1744415999@www.parkwoodpta.org
SUMMARY:Staff Appreciate Week: April 7 - 11
DESCRIPTION:Please help us make this a week to remember for all our STAFF!! All help no matter how small makes a huge difference and allows us to shower our staff with acts of gratitude and appreciation they deserve.
URL:https://www.parkwoodpta.org/event/staff-appreciate-week-april-7-11/
END:VEVENT
BEGIN:VEVENT
DTSTART;TZID=America/Los_Angeles:20250313T190000
DTEND;TZID=America/Los_Angeles:20250313T203000
DTSTAMP:20260423T170453
CREATED:20240829T233303Z
LAST-MODIFIED:20240829T233303Z
UID:2509-1741892400-1741897800@www.parkwoodpta.org
SUMMARY:PTA General Meeting (Virtual)
DESCRIPTION:To join the video meeting\, click this link: https://meet.google.com/vys-tesy-bcz \nOtherwise\, to join by phone\, dial +1 513-816-1160 and enter this PIN: 383 839 529# \nTo view more phone numbers\, click this link: https://tel.meet/vys-tesy-bcz?hs=5
URL:https://www.parkwoodpta.org/event/pta-general-meeting-virtual-2/
LOCATION:Google Meet
END:VEVENT
BEGIN:VEVENT
DTSTART;TZID=America/Los_Angeles:20250213T190000
DTEND;TZID=America/Los_Angeles:20250213T210000
DTSTAMP:20260423T170453
CREATED:20240829T233107Z
LAST-MODIFIED:20250206T194651Z
UID:2507-1739473200-1739480400@www.parkwoodpta.org
SUMMARY:PTA Board Meeting
DESCRIPTION:Working session for board members.
URL:https://www.parkwoodpta.org/event/pta-board-meeting-2/
LOCATION:Ridgecrest Pub\, 520 NE 165th St\, Shoreline\, WA - Washington\, 98133\, United States
END:VEVENT
BEGIN:VEVENT
DTSTART;TZID=America/Los_Angeles:20250130T183000
DTEND;TZID=America/Los_Angeles:20250130T200000
DTSTAMP:20260423T170453
CREATED:20250129T222407Z
LAST-MODIFIED:20250129T222407Z
UID:2555-1738261800-1738267200@www.parkwoodpta.org
SUMMARY:Parent Education: Digital Safety Speaker
DESCRIPTION:
URL:https://www.parkwoodpta.org/event/parent-education-digital-safety-speaker/
LOCATION:Parkwood Elementary School\, 1815 N 155th St\, Shoreline\, WA\, 98133\, United States
END:VEVENT
BEGIN:VEVENT
DTSTART;TZID=America/Los_Angeles:20250109T190000
DTEND;TZID=America/Los_Angeles:20250109T203000
DTSTAMP:20260423T170453
CREATED:20240829T232920Z
LAST-MODIFIED:20240829T232920Z
UID:2505-1736449200-1736454600@www.parkwoodpta.org
SUMMARY:PTA General Meeting
DESCRIPTION:Parkwood Elementary Flex room
URL:https://www.parkwoodpta.org/event/pta-general-meeting/
LOCATION:Parkwood Elementary School\, 1815 N 155th St\, Shoreline\, WA\, 98133\, United States
END:VEVENT
BEGIN:VEVENT
DTSTART;TZID=America/Los_Angeles:20241115T180000
DTEND;TZID=America/Los_Angeles:20241115T200000
DTSTAMP:20260423T170453
CREATED:20241002T212327Z
LAST-MODIFIED:20241002T212327Z
UID:2517-1731693600-1731700800@www.parkwoodpta.org
SUMMARY:Fall Family Carnival + Dance
DESCRIPTION:Join us for an amazing night of family fun and community building. Come one\, come all to Parkwood’s Fall Family Carnival & Dance Friday\, November 15th from 6-8 PM \nKnow Before You Go (KBYG) \n\nThe event is free and all family are welcome\, but all children\, must be accompanied by their adult at all times – no drop offs!\nThe playground will be closed during the event\nThere will be games\, crafts\, dancing\, and prizes as well as food for purchase (cash or credit/debit options available)\nWe encourage you to bring your own water bottle
URL:https://www.parkwoodpta.org/event/fall-family-carnival-dance/
LOCATION:Parkwood Elementary School\, 1815 N 155th St\, Shoreline\, WA\, 98133\, United States
END:VEVENT
BEGIN:VEVENT
DTSTART;TZID=America/Los_Angeles:20241114T190000
DTEND;TZID=America/Los_Angeles:20241114T203000
DTSTAMP:20260423T170453
CREATED:20240829T232657Z
LAST-MODIFIED:20240829T232657Z
UID:2500-1731610800-1731616200@www.parkwoodpta.org
SUMMARY:PTA General Meeting (Virtual)
DESCRIPTION:To join the video meeting\, click this link: https://meet.google.com/rza-jgbn-ope \nOtherwise\, to join by phone\, dial +1 774-255-3429 and enter this PIN: 496 449 455# \nTo view more phone numbers\, click this link: https://tel.meet/rza-jgbn-ope?hs=5
URL:https://www.parkwoodpta.org/event/pta-general-meeting-virtual/
LOCATION:Google Meet
END:VEVENT
BEGIN:VEVENT
DTSTART;TZID=America/Los_Angeles:20241010T190000
DTEND;TZID=America/Los_Angeles:20241010T203000
DTSTAMP:20260423T170453
CREATED:20240829T231212Z
LAST-MODIFIED:20241002T210550Z
UID:2496-1728586800-1728592200@www.parkwoodpta.org
SUMMARY:PTA Board Meeting
DESCRIPTION:
URL:https://www.parkwoodpta.org/event/pta-board-meeting/
LOCATION:Ridgecrest Pub\, 520 NE 165th St\, Shoreline\, WA - Washington\, 98133\, United States
END:VEVENT
BEGIN:VEVENT
DTSTART;TZID=America/Los_Angeles:20240912T190000
DTEND;TZID=America/Los_Angeles:20240912T203000
DTSTAMP:20260423T170453
CREATED:20240828T201116Z
LAST-MODIFIED:20240828T201116Z
UID:2491-1726167600-1726173000@www.parkwoodpta.org
SUMMARY:Parkwood PTA General Meeting
DESCRIPTION:Join us for the first Parkwood PTA General Meeting of the year! \nWe will meet in the flex room at Parkwood at 7pm on Thursday\, September 12. \n 
URL:https://www.parkwoodpta.org/event/parkwood-pta-general-meeting/
LOCATION:Parkwood Elementary School\, 1815 N 155th St\, Shoreline\, WA\, 98133\, United States
END:VEVENT
BEGIN:VEVENT
DTSTART;TZID=America/Los_Angeles:20240810T090000
DTEND;TZID=America/Los_Angeles:20240810T120000
DTSTAMP:20260423T170453
CREATED:20240729T205636Z
LAST-MODIFIED:20240729T205636Z
UID:2477-1723280400-1723291200@www.parkwoodpta.org
SUMMARY:Back-to-School All Campus Clean Up
DESCRIPTION:
URL:https://www.parkwoodpta.org/event/back-to-school-all-campus-clean-up/
LOCATION:Parkwood Elementary School\, 1815 N 155th St\, Shoreline\, WA\, 98133\, United States
END:VEVENT
BEGIN:VEVENT
DTSTART;TZID=America/Los_Angeles:20240616T130000
DTEND;TZID=America/Los_Angeles:20240616T160000
DTSTAMP:20260423T170453
CREATED:20240513T025723Z
LAST-MODIFIED:20240519T182138Z
UID:2447-1718542800-1718553600@www.parkwoodpta.org
SUMMARY:Parkwood Day at the Mariners
DESCRIPTION:Join your fellow Parkwood Panthers to cheer on the Mariners as they go up against the Texas Rangers on June 16\, 2024 at 1:10pm. We have 100 seats in Section 323\, rows 19-23. \n \nTickets are available through the online auction here. \nNeed a scholarship for these tickets? We have limited scholarships available for Parkwood students only. (Must be accompanied by adult with purchased ticket). Please email fundraising@parkwoodpta.org for more info.
URL:https://www.parkwoodpta.org/event/parkwood-day-at-the-mariners/
LOCATION:T-Mobile Park\, 1250 1st Ave S\, Seattle\, WA\, 98134
END:VEVENT
BEGIN:VEVENT
DTSTART;TZID=America/Los_Angeles:20240613T190000
DTEND;TZID=America/Los_Angeles:20240613T210000
DTSTAMP:20260423T170453
CREATED:20230914T022859Z
LAST-MODIFIED:20230914T022859Z
UID:2205-1718305200-1718312400@www.parkwoodpta.org
SUMMARY:PTA Meeting
DESCRIPTION:Upcoming EventsAvailableBookedChangeoverJanuary 2026February 2026March 2026April 2026May 2026June 2026July 2026August 2026September 2026October 2026November 2026December 2026January 2027February 2027March 2027April 2027SMTWTFS123456789101112131415161718192021222324252627282930
URL:https://www.parkwoodpta.org/event/pta-meeting-10/
END:VEVENT
BEGIN:VEVENT
DTSTART;TZID=America/Los_Angeles:20240509T190000
DTEND;TZID=America/Los_Angeles:20240509T210000
DTSTAMP:20260423T170453
CREATED:20230914T022834Z
LAST-MODIFIED:20230914T022834Z
UID:2203-1715281200-1715288400@www.parkwoodpta.org
SUMMARY:PTA Meeting
DESCRIPTION:Upcoming EventsAvailableBookedChangeoverJanuary 2026February 2026March 2026April 2026May 2026June 2026July 2026August 2026September 2026October 2026November 2026December 2026January 2027February 2027March 2027April 2027SMTWTFS123456789101112131415161718192021222324252627282930
URL:https://www.parkwoodpta.org/event/pta-meeting-9/
END:VEVENT
BEGIN:VEVENT
DTSTART;TZID=America/Los_Angeles:20240411T190000
DTEND;TZID=America/Los_Angeles:20240411T210000
DTSTAMP:20260423T170453
CREATED:20230914T022608Z
LAST-MODIFIED:20230914T022608Z
UID:2201-1712862000-1712869200@www.parkwoodpta.org
SUMMARY:PTA Meeting
DESCRIPTION:Upcoming EventsAvailableBookedChangeoverJanuary 2026February 2026March 2026April 2026May 2026June 2026July 2026August 2026September 2026October 2026November 2026December 2026January 2027February 2027March 2027April 2027SMTWTFS123456789101112131415161718192021222324252627282930
URL:https://www.parkwoodpta.org/event/pta-meeting-8/
END:VEVENT
BEGIN:VEVENT
DTSTART;TZID=America/Los_Angeles:20240314T190000
DTEND;TZID=America/Los_Angeles:20240314T210000
DTSTAMP:20260423T170453
CREATED:20230914T022537Z
LAST-MODIFIED:20230914T022537Z
UID:2199-1710442800-1710450000@www.parkwoodpta.org
SUMMARY:PTA Meeting
DESCRIPTION:Upcoming EventsAvailableBookedChangeoverJanuary 2026February 2026March 2026April 2026May 2026June 2026July 2026August 2026September 2026October 2026November 2026December 2026January 2027February 2027March 2027April 2027SMTWTFS123456789101112131415161718192021222324252627282930
URL:https://www.parkwoodpta.org/event/pta-meeting-7/
END:VEVENT
BEGIN:VEVENT
DTSTART;TZID=America/Los_Angeles:20240208T190000
DTEND;TZID=America/Los_Angeles:20240208T210000
DTSTAMP:20260423T170453
CREATED:20230914T022506Z
LAST-MODIFIED:20230914T022506Z
UID:2197-1707418800-1707426000@www.parkwoodpta.org
SUMMARY:PTA Meeting
DESCRIPTION:Upcoming EventsAvailableBookedChangeoverJanuary 2026February 2026March 2026April 2026May 2026June 2026July 2026August 2026September 2026October 2026November 2026December 2026January 2027February 2027March 2027April 2027SMTWTFS123456789101112131415161718192021222324252627282930
URL:https://www.parkwoodpta.org/event/pta-meeting-6/
END:VEVENT
BEGIN:VEVENT
DTSTART;TZID=America/Los_Angeles:20240111T190000
DTEND;TZID=America/Los_Angeles:20240111T210000
DTSTAMP:20260423T170453
CREATED:20230914T022433Z
LAST-MODIFIED:20230914T022433Z
UID:2195-1704999600-1705006800@www.parkwoodpta.org
SUMMARY:PTA Meeting
DESCRIPTION:Upcoming EventsAvailableBookedChangeoverJanuary 2026February 2026March 2026April 2026May 2026June 2026July 2026August 2026September 2026October 2026November 2026December 2026January 2027February 2027March 2027April 2027SMTWTFS123456789101112131415161718192021222324252627282930
URL:https://www.parkwoodpta.org/event/pta-meeting-5/
END:VEVENT
BEGIN:VEVENT
DTSTART;VALUE=DATE:20240108
DTEND;VALUE=DATE:20240109
DTSTAMP:20260423T170453
CREATED:20231222T033724Z
LAST-MODIFIED:20231222T033724Z
UID:2386-1704672000-1704758399@www.parkwoodpta.org
SUMMARY:Back To School!
DESCRIPTION:Upcoming EventsAvailableBookedChangeoverJanuary 2026February 2026March 2026April 2026May 2026June 2026July 2026August 2026September 2026October 2026November 2026December 2026January 2027February 2027March 2027April 2027SMTWTFS123456789101112131415161718192021222324252627282930
URL:https://www.parkwoodpta.org/event/back-to-school/
LOCATION:Parkwood Elementary School\, 1815 N 155th St\, Shoreline\, WA\, 98133\, United States
END:VEVENT
BEGIN:VEVENT
DTSTART;TZID=America/Los_Angeles:20231114T080000
DTEND;TZID=America/Los_Angeles:20231114T170000
DTSTAMP:20260423T170453
CREATED:20231004T052751Z
LAST-MODIFIED:20231004T052751Z
UID:2274-1699948800-1699981200@www.parkwoodpta.org
SUMMARY:Natural Leader Meeting
DESCRIPTION:
URL:https://www.parkwoodpta.org/event/natural-leader-meeting-2/
END:VEVENT
BEGIN:VEVENT
DTSTART;TZID=America/Los_Angeles:20231109T190000
DTEND;TZID=America/Los_Angeles:20231109T210000
DTSTAMP:20260423T170453
CREATED:20230914T022121Z
LAST-MODIFIED:20230914T022121Z
UID:2190-1699556400-1699563600@www.parkwoodpta.org
SUMMARY:PTA Meeting
DESCRIPTION:
URL:https://www.parkwoodpta.org/event/pta-meeting-3/
END:VEVENT
BEGIN:VEVENT
DTSTART;TZID=America/Los_Angeles:20231103T060000
DTEND;TZID=America/Los_Angeles:20231103T200000
DTSTAMP:20260423T170453
CREATED:20231102T033755Z
LAST-MODIFIED:20231102T033755Z
UID:2310-1698991200-1699041600@www.parkwoodpta.org
SUMMARY:Family Movie Night !
DESCRIPTION:Coco Flier 2
URL:https://www.parkwoodpta.org/event/family-movie-night/
LOCATION:Parkwood Elementary School\, 1815 N 155th St\, Shoreline\, WA\, 98133\, United States
END:VEVENT
BEGIN:VEVENT
DTSTART;TZID=America/Los_Angeles:20231102T080000
DTEND;TZID=America/Los_Angeles:20231102T170000
DTSTAMP:20260423T170453
CREATED:20231004T052726Z
LAST-MODIFIED:20231004T052726Z
UID:2272-1698912000-1698944400@www.parkwoodpta.org
SUMMARY:Teacher Appreciation
DESCRIPTION:
URL:https://www.parkwoodpta.org/event/teacher-appreciation-2/
END:VEVENT
BEGIN:VEVENT
DTSTART;TZID=America/Los_Angeles:20231026T080000
DTEND;TZID=America/Los_Angeles:20231026T170000
DTSTAMP:20260423T170453
CREATED:20231004T052703Z
LAST-MODIFIED:20231004T052703Z
UID:2270-1698307200-1698339600@www.parkwoodpta.org
SUMMARY:Natural Leader Game Night
DESCRIPTION:
URL:https://www.parkwoodpta.org/event/natural-leader-game-night/
END:VEVENT
BEGIN:VEVENT
DTSTART;TZID=America/Los_Angeles:20231023T080000
DTEND;TZID=America/Los_Angeles:20231023T170000
DTSTAMP:20260423T170453
CREATED:20231004T052639Z
LAST-MODIFIED:20231004T052639Z
UID:2268-1698048000-1698080400@www.parkwoodpta.org
SUMMARY:Reflection Entries Open
DESCRIPTION:
URL:https://www.parkwoodpta.org/event/reflection-entries-open/
END:VEVENT
BEGIN:VEVENT
DTSTART;TZID=America/Los_Angeles:20231018T080000
DTEND;TZID=America/Los_Angeles:20231018T170000
DTSTAMP:20260423T170453
CREATED:20231004T052613Z
LAST-MODIFIED:20231004T052613Z
UID:2266-1697616000-1697648400@www.parkwoodpta.org
SUMMARY:Teacher Appreciation
DESCRIPTION:
URL:https://www.parkwoodpta.org/event/teacher-appreciation/
END:VEVENT
END:VCALENDAR