BEGIN:VCALENDAR
VERSION:2.0
PRODID:-//Parkwood PTA - ECPv6.15.20//NONSGML v1.0//EN
CALSCALE:GREGORIAN
METHOD:PUBLISH
X-WR-CALNAME:Parkwood PTA
X-ORIGINAL-URL:https://www.parkwoodpta.org
X-WR-CALDESC:Events for Parkwood PTA
REFRESH-INTERVAL;VALUE=DURATION:PT1H
X-Robots-Tag:noindex
X-PUBLISHED-TTL:PT1H
BEGIN:VTIMEZONE
TZID:America/Los_Angeles
BEGIN:DAYLIGHT
TZOFFSETFROM:-0800
TZOFFSETTO:-0700
TZNAME:PDT
DTSTART:20210314T100000
END:DAYLIGHT
BEGIN:STANDARD
TZOFFSETFROM:-0700
TZOFFSETTO:-0800
TZNAME:PST
DTSTART:20211107T090000
END:STANDARD
BEGIN:DAYLIGHT
TZOFFSETFROM:-0800
TZOFFSETTO:-0700
TZNAME:PDT
DTSTART:20220313T100000
END:DAYLIGHT
BEGIN:STANDARD
TZOFFSETFROM:-0700
TZOFFSETTO:-0800
TZNAME:PST
DTSTART:20221106T090000
END:STANDARD
BEGIN:DAYLIGHT
TZOFFSETFROM:-0800
TZOFFSETTO:-0700
TZNAME:PDT
DTSTART:20230312T100000
END:DAYLIGHT
BEGIN:STANDARD
TZOFFSETFROM:-0700
TZOFFSETTO:-0800
TZNAME:PST
DTSTART:20231105T090000
END:STANDARD
BEGIN:DAYLIGHT
TZOFFSETFROM:-0800
TZOFFSETTO:-0700
TZNAME:PDT
DTSTART:20240310T100000
END:DAYLIGHT
BEGIN:STANDARD
TZOFFSETFROM:-0700
TZOFFSETTO:-0800
TZNAME:PST
DTSTART:20241103T090000
END:STANDARD
END:VTIMEZONE
BEGIN:VEVENT
DTSTART;TZID=America/Los_Angeles:20230831T160000
DTEND;TZID=America/Los_Angeles:20230831T180000
DTSTAMP:20260424T091747
CREATED:20230829T001109Z
LAST-MODIFIED:20230829T001158Z
UID:2119-1693497600-1693504800@www.parkwoodpta.org
SUMMARY:2023 Back to School BBQ
DESCRIPTION:
URL:https://www.parkwoodpta.org/event/2023-back-to-school-bbq/
LOCATION:Parkwood Elementary School\, 1815 N 155th St\, Shoreline\, WA\, 98133\, United States
END:VEVENT
BEGIN:VEVENT
DTSTART;TZID=America/Los_Angeles:20230622T190000
DTEND;TZID=America/Los_Angeles:20230622T200000
DTSTAMP:20260424T091747
CREATED:20221203T184902Z
LAST-MODIFIED:20230408T053748Z
UID:1893-1687460400-1687464000@www.parkwoodpta.org
SUMMARY:General Meeting
DESCRIPTION:In-person at Parkwood Library with Zoom viewing option*
URL:https://www.parkwoodpta.org/event/general-meeting-2/
LOCATION:ZOOM
END:VEVENT
BEGIN:VEVENT
DTSTART;VALUE=DATE:20230616
DTEND;VALUE=DATE:20230617
DTSTAMP:20260424T091747
CREATED:20230512T162844Z
LAST-MODIFIED:20230512T170344Z
UID:2000-1686873600-1686959999@www.parkwoodpta.org
SUMMARY:Video Game Night (by Black and Brown Affinity Group Community)
DESCRIPTION:  \nJoin us in the school cafeteria for a family fun evening of video games and pizza. \nBYOC: bring your controller and join your classmates for some video game fun!!! \nWe will have some controls to share.
URL:https://www.parkwoodpta.org/event/video-game-night-by-black-and-brown-affinity-group-community/
END:VEVENT
BEGIN:VEVENT
DTSTART;TZID=America/Los_Angeles:20230609T180000
DTEND;TZID=America/Los_Angeles:20230609T200000
DTSTAMP:20260424T091747
CREATED:20230512T165240Z
LAST-MODIFIED:20230512T170207Z
UID:2014-1686333600-1686340800@www.parkwoodpta.org
SUMMARY:Cruise into Summer - Parkwood Family Dance
DESCRIPTION:Come dressed to boogie in your best cruise attire. \n 
URL:https://www.parkwoodpta.org/event/cruise-into-summer-parkwood-family-dance/
END:VEVENT
BEGIN:VEVENT
DTSTART;TZID=America/Los_Angeles:20230525T183000
DTEND;TZID=America/Los_Angeles:20230525T193000
DTSTAMP:20260424T091747
CREATED:20230512T162458Z
LAST-MODIFIED:20230512T170223Z
UID:1996-1685039400-1685043000@www.parkwoodpta.org
SUMMARY:Bedtime Stories (by Black and Brown Affinity Group  )
DESCRIPTION:Come Join us to hear stories celebrating people of color and enjoy hot chocolate! \n 
URL:https://www.parkwoodpta.org/event/bedtime-stories-by-black-and-brown-affinity-group/
LOCATION:Parkwood Elementary School\, 1815 N 155th St\, Shoreline\, WA\, 98133\, United States
END:VEVENT
BEGIN:VEVENT
DTSTART;VALUE=DATE:20230519
DTEND;VALUE=DATE:20230520
DTSTAMP:20260424T091747
CREATED:20221203T184815Z
LAST-MODIFIED:20221203T184815Z
UID:1891-1684454400-1684540799@www.parkwoodpta.org
SUMMARY:Family Night - Magician &  Spring Auction
DESCRIPTION:
URL:https://www.parkwoodpta.org/event/family-night-magician-spring-auction/
LOCATION:Parkwood Elementary School\, 1815 N 155th St\, Shoreline\, WA\, 98133\, United States
END:VEVENT
BEGIN:VEVENT
DTSTART;VALUE=DATE:20230515
DTEND;VALUE=DATE:20230520
DTSTAMP:20260424T091747
CREATED:20230513T055057Z
LAST-MODIFIED:20230513T055457Z
UID:2031-1684108800-1684540799@www.parkwoodpta.org
SUMMARY:Online Auction
DESCRIPTION:  \nfundraiser.support/ParkwoodPTAAuction23 \n 
URL:https://www.parkwoodpta.org/event/online-auction/
END:VEVENT
BEGIN:VEVENT
DTSTART;TZID=America/Los_Angeles:20230511T183000
DTEND;TZID=America/Los_Angeles:20230511T193000
DTSTAMP:20260424T091747
CREATED:20221203T184741Z
LAST-MODIFIED:20221203T184741Z
UID:1889-1683829800-1683833400@www.parkwoodpta.org
SUMMARY:Board Meeting
DESCRIPTION:In-person at Parkwood Library with Zoom viewing option*
URL:https://www.parkwoodpta.org/event/board-meeting-4/
LOCATION:Parkwood Elementary School\, 1815 N 155th St\, Shoreline\, WA\, 98133\, United States
END:VEVENT
BEGIN:VEVENT
DTSTART;VALUE=DATE:20230413
DTEND;VALUE=DATE:20230414
DTSTAMP:20260424T091747
CREATED:20221203T185557Z
LAST-MODIFIED:20221203T185557Z
UID:1898-1681344000-1681430399@www.parkwoodpta.org
SUMMARY:World Night
DESCRIPTION:
URL:https://www.parkwoodpta.org/event/world-night/
LOCATION:Parkwood Elementary School\, 1815 N 155th St\, Shoreline\, WA\, 98133\, United States
END:VEVENT
BEGIN:VEVENT
DTSTART;TZID=America/Los_Angeles:20230309T183000
DTEND;TZID=America/Los_Angeles:20230309T193000
DTSTAMP:20260424T091747
CREATED:20221203T184628Z
LAST-MODIFIED:20221203T184642Z
UID:1884-1678386600-1678390200@www.parkwoodpta.org
SUMMARY:Board Meeting
DESCRIPTION:
URL:https://www.parkwoodpta.org/event/board-meeting-3/
LOCATION:ZOOM
END:VEVENT
BEGIN:VEVENT
DTSTART;TZID=America/Los_Angeles:20230216T183000
DTEND;TZID=America/Los_Angeles:20230216T193000
DTSTAMP:20260424T091747
CREATED:20221203T180749Z
LAST-MODIFIED:20221203T181030Z
UID:1850-1676572200-1676575800@www.parkwoodpta.org
SUMMARY:Board Meeting
DESCRIPTION:In-person at Parkwood Library with Zoom viewing option*
URL:https://www.parkwoodpta.org/event/1850/
LOCATION:Parkwood Elementary School\, 1815 N 155th St\, Shoreline\, WA\, 98133\, United States
END:VEVENT
BEGIN:VEVENT
DTSTART;TZID=America/Los_Angeles:20230112T190000
DTEND;TZID=America/Los_Angeles:20230112T203000
DTSTAMP:20260424T091747
CREATED:20221203T185717Z
LAST-MODIFIED:20221203T190121Z
UID:1900-1673550000-1673555400@www.parkwoodpta.org
SUMMARY:Positive Discipline Parenting
DESCRIPTION:General Meeting with Speaker Julietta Skoog\, Ed. S\, MA\n– Positive Discipline Parenting
URL:https://www.parkwoodpta.org/event/positive-discipline-parenting/
LOCATION:Parkwood Elementary School\, 1815 N 155th St\, Shoreline\, WA\, 98133\, United States
END:VEVENT
BEGIN:VEVENT
DTSTART;TZID=America/Los_Angeles:20221117T190000
DTEND;TZID=America/Los_Angeles:20221117T200000
DTSTAMP:20260424T091747
CREATED:20221203T184401Z
LAST-MODIFIED:20221203T184401Z
UID:1882-1668711600-1668715200@www.parkwoodpta.org
SUMMARY:Board Meeting
DESCRIPTION:
URL:https://www.parkwoodpta.org/event/board-meeting-2/
LOCATION:ZOOM
END:VEVENT
BEGIN:VEVENT
DTSTART;TZID=America/Los_Angeles:20221020T190000
DTEND;TZID=America/Los_Angeles:20221020T200000
DTSTAMP:20260424T091747
CREATED:20221203T184311Z
LAST-MODIFIED:20221203T184311Z
UID:1880-1666292400-1666296000@www.parkwoodpta.org
SUMMARY:Board Meeting
DESCRIPTION:
URL:https://www.parkwoodpta.org/event/board-meeting/
LOCATION:Parkwood Elementary School\, 1815 N 155th St\, Shoreline\, WA\, 98133\, United States
END:VEVENT
BEGIN:VEVENT
DTSTART;TZID=America/Los_Angeles:20220915T190000
DTEND;TZID=America/Los_Angeles:20220915T200000
DTSTAMP:20260424T091747
CREATED:20221203T184232Z
LAST-MODIFIED:20221203T184232Z
UID:1878-1663268400-1663272000@www.parkwoodpta.org
SUMMARY:General Meeting
DESCRIPTION:
URL:https://www.parkwoodpta.org/event/general-meeting/
LOCATION:ZOOM
END:VEVENT
END:VCALENDAR