BEGIN:VCALENDAR
VERSION:2.0
PRODID:-//Parkwood PTA - ECPv6.15.20//NONSGML v1.0//EN
CALSCALE:GREGORIAN
METHOD:PUBLISH
X-ORIGINAL-URL:https://www.parkwoodpta.org
X-WR-CALDESC:Events for Parkwood PTA
REFRESH-INTERVAL;VALUE=DURATION:PT1H
X-Robots-Tag:noindex
X-PUBLISHED-TTL:PT1H
BEGIN:VTIMEZONE
TZID:America/Los_Angeles
BEGIN:DAYLIGHT
TZOFFSETFROM:-0800
TZOFFSETTO:-0700
TZNAME:PDT
DTSTART:20250309T100000
END:DAYLIGHT
BEGIN:STANDARD
TZOFFSETFROM:-0700
TZOFFSETTO:-0800
TZNAME:PST
DTSTART:20251102T090000
END:STANDARD
BEGIN:DAYLIGHT
TZOFFSETFROM:-0800
TZOFFSETTO:-0700
TZNAME:PDT
DTSTART:20260308T100000
END:DAYLIGHT
BEGIN:STANDARD
TZOFFSETFROM:-0700
TZOFFSETTO:-0800
TZNAME:PST
DTSTART:20261101T090000
END:STANDARD
BEGIN:DAYLIGHT
TZOFFSETFROM:-0800
TZOFFSETTO:-0700
TZNAME:PDT
DTSTART:20270314T100000
END:DAYLIGHT
BEGIN:STANDARD
TZOFFSETFROM:-0700
TZOFFSETTO:-0800
TZNAME:PST
DTSTART:20271107T090000
END:STANDARD
END:VTIMEZONE
BEGIN:VEVENT
DTSTART;TZID=America/Los_Angeles:20260227T183000
DTEND;TZID=America/Los_Angeles:20260227T203000
DTSTAMP:20260423T171430
CREATED:20260223T183446Z
LAST-MODIFIED:20260223T183446Z
UID:2864-1772217000-1772224200@www.parkwoodpta.org
SUMMARY:Carnival Night
DESCRIPTION:Join the fun!
URL:https://www.parkwoodpta.org/event/carnival-night/
LOCATION:Parkwood Elementary School\, 1815 N 155th St\, Shoreline\, WA\, 98133\, United States
END:VEVENT
BEGIN:VEVENT
DTSTART;TZID=America/Los_Angeles:20260312T190000
DTEND;TZID=America/Los_Angeles:20260312T203000
DTSTAMP:20260423T171430
CREATED:20260223T183756Z
LAST-MODIFIED:20260312T000943Z
UID:2868-1773342000-1773347400@www.parkwoodpta.org
SUMMARY:March PTA Meeting (Virtual)
DESCRIPTION:Join us on Zoom. \nAll are welcome!
URL:https://www.parkwoodpta.org/event/march-pta-meeting-virtual/
END:VEVENT
BEGIN:VEVENT
DTSTART;TZID=America/Los_Angeles:20260316T170000
DTEND;TZID=America/Los_Angeles:20260327T170000
DTSTAMP:20260423T171430
CREATED:20260312T001408Z
LAST-MODIFIED:20260312T001627Z
UID:2892-1773680400-1774630800@www.parkwoodpta.org
SUMMARY:Spring 2026 Enrichment Registration Opens
DESCRIPTION:Registration begins at 5PM on March 16th \nClasses begin March 30th \nSome scholarships are available \nAll classes need 1 parent volunteer – your child’s tuition for the class will be covered if you volunteer!
URL:https://www.parkwoodpta.org/event/spring-2026-enrichment-registration-opens/
END:VEVENT
BEGIN:VEVENT
DTSTART;TZID=America/Los_Angeles:20260406T080000
DTEND;TZID=America/Los_Angeles:20260412T210000
DTSTAMP:20260423T171430
CREATED:20260410T004035Z
LAST-MODIFIED:20260410T004136Z
UID:2935-1775462400-1776027600@www.parkwoodpta.org
SUMMARY:April Fundraiser - Round Table Pizza Partnership
DESCRIPTION:All week long starting April 6th-12th!
URL:https://www.parkwoodpta.org/event/april-fundraiser-round-table-pizza-partnership/
LOCATION:Round Table Pizza\, 15725 Westminster Way N\, Shoreline\, WA\, 98133-5626\, United States
END:VEVENT
BEGIN:VEVENT
DTSTART;TZID=America/Los_Angeles:20260414T190000
DTEND;TZID=America/Los_Angeles:20260414T203000
DTSTAMP:20260423T171430
CREATED:20260312T001224Z
LAST-MODIFIED:20260410T003530Z
UID:2890-1776193200-1776198600@www.parkwoodpta.org
SUMMARY:April PTA Meeting/Meet & Greet
DESCRIPTION:Come meet the PTA Board members in person! We are a small\, but might (and fun) group of Parkwood caregivers that are VERY busy and would love whatever help you could provide. \nMeet us at 7PM at Ridgecrest Public House \n(This meeting was originally scheduled for April 9th virtually)
URL:https://www.parkwoodpta.org/event/april-virtual-pta-meeting/
LOCATION:Ridgecrest Pub\, 520 NE 165th St\, Shoreline\, WA - Washington\, 98133\, United States
END:VEVENT
BEGIN:VEVENT
DTSTART;TZID=America/Los_Angeles:20260416T180000
DTEND;TZID=America/Los_Angeles:20260416T200000
DTSTAMP:20260423T171430
CREATED:20260410T004302Z
LAST-MODIFIED:20260410T004302Z
UID:2939-1776362400-1776369600@www.parkwoodpta.org
SUMMARY:Parkwood World Night
DESCRIPTION:
URL:https://www.parkwoodpta.org/event/parkwood-world-night/
LOCATION:Parkwood Elementary School\, 1815 N 155th St\, Shoreline\, WA\, 98133\, United States
END:VEVENT
BEGIN:VEVENT
DTSTART;TZID=America/Los_Angeles:20260514T190000
DTEND;TZID=America/Los_Angeles:20260514T203000
DTSTAMP:20260423T171430
CREATED:20260312T001740Z
LAST-MODIFIED:20260312T001740Z
UID:2896-1778785200-1778790600@www.parkwoodpta.org
SUMMARY:May Virtual PTA Meeting
DESCRIPTION:Join us on Zoom! All are welcome. \nJoin Zoom Meeting https://us06web.zoom.us/j/88982248848?pwd=xg9J6gqhYjPpfpBqhVJPXL5212P2bL.1 Meeting ID: 889 8224 8848 Passcode: 8rjJCd — One tap mobile +12532050468\,\,88982248848#\,\,\,\,*813365# US +12532158782\,\,88982248848#\,\,\,\,*813365# US (Tacoma) — Join by SIP • 88982248848@zoomcrc.com \nJoin instructions https://us06web.zoom.us/meetings/88982248848/invitations?signature=07A1ZTDg7iM1Uq2SLoDGuvcxIt7e8OqHFT94eFJL514
URL:https://www.parkwoodpta.org/event/may-virtual-pta-meeting/
END:VEVENT
END:VCALENDAR