BEGIN:VCALENDAR
VERSION:2.0
PRODID:-//Parkwood PTA - ECPv6.15.20//NONSGML v1.0//EN
CALSCALE:GREGORIAN
METHOD:PUBLISH
X-ORIGINAL-URL:https://www.parkwoodpta.org
X-WR-CALDESC:Events for Parkwood PTA
REFRESH-INTERVAL;VALUE=DURATION:PT1H
X-Robots-Tag:noindex
X-PUBLISHED-TTL:PT1H
BEGIN:VTIMEZONE
TZID:America/Los_Angeles
BEGIN:DAYLIGHT
TZOFFSETFROM:-0800
TZOFFSETTO:-0700
TZNAME:PDT
DTSTART:20250309T100000
END:DAYLIGHT
BEGIN:STANDARD
TZOFFSETFROM:-0700
TZOFFSETTO:-0800
TZNAME:PST
DTSTART:20251102T090000
END:STANDARD
BEGIN:DAYLIGHT
TZOFFSETFROM:-0800
TZOFFSETTO:-0700
TZNAME:PDT
DTSTART:20260308T100000
END:DAYLIGHT
BEGIN:STANDARD
TZOFFSETFROM:-0700
TZOFFSETTO:-0800
TZNAME:PST
DTSTART:20261101T090000
END:STANDARD
BEGIN:DAYLIGHT
TZOFFSETFROM:-0800
TZOFFSETTO:-0700
TZNAME:PDT
DTSTART:20270314T100000
END:DAYLIGHT
BEGIN:STANDARD
TZOFFSETFROM:-0700
TZOFFSETTO:-0800
TZNAME:PST
DTSTART:20271107T090000
END:STANDARD
END:VTIMEZONE
BEGIN:VEVENT
DTSTART;TZID=America/Los_Angeles:20260115T190000
DTEND;TZID=America/Los_Angeles:20260115T203000
DTSTAMP:20260423T153614
CREATED:20260108T184217Z
LAST-MODIFIED:20260108T184226Z
UID:2836-1768503600-1768509000@www.parkwoodpta.org
SUMMARY:January PTA General Meeting
DESCRIPTION:Join us on January 15th at 7PM in the Flex Room! \nWe will review the minutes from our December Meeting\, upcoming events/dates and our needs for volunteers.
URL:https://www.parkwoodpta.org/event/january-pta-general-meeting/
LOCATION:Parkwood Elementary School\, 1815 N 155th St\, Shoreline\, WA\, 98133\, United States
END:VEVENT
END:VCALENDAR