BEGIN:VCALENDAR
VERSION:2.0
PRODID:-//Parkwood PTA - ECPv6.15.20//NONSGML v1.0//EN
CALSCALE:GREGORIAN
METHOD:PUBLISH
X-WR-CALNAME:Parkwood PTA
X-ORIGINAL-URL:https://www.parkwoodpta.org
X-WR-CALDESC:Events for Parkwood PTA
REFRESH-INTERVAL;VALUE=DURATION:PT1H
X-Robots-Tag:noindex
X-PUBLISHED-TTL:PT1H
BEGIN:VTIMEZONE
TZID:America/Los_Angeles
BEGIN:DAYLIGHT
TZOFFSETFROM:-0800
TZOFFSETTO:-0700
TZNAME:PDT
DTSTART:20240310T100000
END:DAYLIGHT
BEGIN:STANDARD
TZOFFSETFROM:-0700
TZOFFSETTO:-0800
TZNAME:PST
DTSTART:20241103T090000
END:STANDARD
BEGIN:DAYLIGHT
TZOFFSETFROM:-0800
TZOFFSETTO:-0700
TZNAME:PDT
DTSTART:20250309T100000
END:DAYLIGHT
BEGIN:STANDARD
TZOFFSETFROM:-0700
TZOFFSETTO:-0800
TZNAME:PST
DTSTART:20251102T090000
END:STANDARD
BEGIN:DAYLIGHT
TZOFFSETFROM:-0800
TZOFFSETTO:-0700
TZNAME:PDT
DTSTART:20260308T100000
END:DAYLIGHT
BEGIN:STANDARD
TZOFFSETFROM:-0700
TZOFFSETTO:-0800
TZNAME:PST
DTSTART:20261101T090000
END:STANDARD
END:VTIMEZONE
BEGIN:VEVENT
DTSTART;VALUE=DATE:20250407
DTEND;VALUE=DATE:20250412
DTSTAMP:20260424T060230
CREATED:20250403T231556Z
LAST-MODIFIED:20250403T231556Z
UID:2624-1743984000-1744415999@www.parkwoodpta.org
SUMMARY:Staff Appreciate Week: April 7 - 11
DESCRIPTION:Please help us make this a week to remember for all our STAFF!! All help no matter how small makes a huge difference and allows us to shower our staff with acts of gratitude and appreciation they deserve.
URL:https://www.parkwoodpta.org/event/staff-appreciate-week-april-7-11/
END:VEVENT
BEGIN:VEVENT
DTSTART;TZID=America/Los_Angeles:20250410T180000
DTEND;TZID=America/Los_Angeles:20250410T200000
DTSTAMP:20260424T060230
CREATED:20250403T232301Z
LAST-MODIFIED:20250403T232301Z
UID:2626-1744308000-1744315200@www.parkwoodpta.org
SUMMARY:World Night - Presented by Parkwood Natural Leaders
DESCRIPTION:Join us for a night of community with good food (bring a dish to share)\, musical and dance performances by Parkwood students\, 5th grade cultural project showcase\, arts & crafts\, photo booth\, and more!
URL:https://www.parkwoodpta.org/event/world-night-presented-by-parkwood-natural-leaders/
LOCATION:Parkwood Elementary School\, 1815 N 155th St\, Shoreline\, WA\, 98133\, United States
END:VEVENT
END:VCALENDAR